BEGIN:VCALENDAR
VERSION:2.0
PRODID:-//UCLA Political Science - ECPv6.15.17.1//NONSGML v1.0//EN
CALSCALE:GREGORIAN
METHOD:PUBLISH
X-WR-CALNAME:UCLA Political Science
X-ORIGINAL-URL:https://polisci.ucla.edu
X-WR-CALDESC:Events for UCLA Political Science
REFRESH-INTERVAL;VALUE=DURATION:PT1H
X-Robots-Tag:noindex
X-PUBLISHED-TTL:PT1H
BEGIN:VTIMEZONE
TZID:America/Los_Angeles
BEGIN:DAYLIGHT
TZOFFSETFROM:-0800
TZOFFSETTO:-0700
TZNAME:PDT
DTSTART:20200308T100000
END:DAYLIGHT
BEGIN:STANDARD
TZOFFSETFROM:-0700
TZOFFSETTO:-0800
TZNAME:PST
DTSTART:20201101T090000
END:STANDARD
BEGIN:DAYLIGHT
TZOFFSETFROM:-0800
TZOFFSETTO:-0700
TZNAME:PDT
DTSTART:20210314T100000
END:DAYLIGHT
BEGIN:STANDARD
TZOFFSETFROM:-0700
TZOFFSETTO:-0800
TZNAME:PST
DTSTART:20211107T090000
END:STANDARD
BEGIN:DAYLIGHT
TZOFFSETFROM:-0800
TZOFFSETTO:-0700
TZNAME:PDT
DTSTART:20220313T100000
END:DAYLIGHT
BEGIN:STANDARD
TZOFFSETFROM:-0700
TZOFFSETTO:-0800
TZNAME:PST
DTSTART:20221106T090000
END:STANDARD
END:VTIMEZONE
BEGIN:VEVENT
DTSTART;TZID=America/Los_Angeles:20210122T160000
DTEND;TZID=America/Los_Angeles:20210122T180000
DTSTAMP:20260420T035011
CREATED:20210120T065139Z
LAST-MODIFIED:20210120T065139Z
UID:7425-1611331200-1611338400@polisci.ucla.edu
SUMMARY:Political Theory Workshop: ‘Pass by!’: Nietzsche’s Zarathustra on Speaking’s Damage by Shalini Satkunanandan
DESCRIPTION:Speaker:  Shalini Satkunanandan\, UC Davis \nTitle:  ‘Pass by!’: Nietzsche’s Zarathustra on Speaking’s Damage \nTopic:  PT Workshop \nTime:  Friday\, January 22nd; 4:00pm PST \n  \nZOOM LINK: \nhttps://ucla.zoom.us/j/8217815316?pwd=dlU4enhrUTVBOVFSUFhRamJsd2dwdz09 \n  \nMeeting ID:  821 781 5316 \nPasscode:  4289 \n  \nOne tap mobile \n+12133388477\,\,8217815316#\,\,\,\,\,\,0#\,\,4289# US (Los Angeles) \n+16692192599\,\,8217815316#\,\,\,\,\,\,0#\,\,4289# US (San Jose) \n——————– \n  \n  \nThe password-protected paper is both attached and available on the PT website at \nhttps://polisci.ucla.edu/events/workshops/political-theory-workshop \n  \nThe password is (case-sensitive) UCLAtheory \n \n  \nAbstract: \nNietzsche’s prophet protagonist\, Zarathustra\, sometimes seeks to avoid or curtail engagement with others\, including dialogical engagement about beliefs\, in order to pursue and protect his arguably political ends (the creation of new values). He calls this practice of selective withdrawal from engagement “passing by.” In this paper\, which is part of an in-progress book manuscript\, I show how Zarathustra’s practice of passing by arises from an acute sense of the limits and toll of speaking to others\, especially for anyone who strives\, as Zarathustra does\, to create a radically new future.
URL:https://polisci.ucla.edu/event/political-theory-workshop-pass-by-nietzsches-zarathustra-on-speakings-damage-by-shalini-satkunanandan/
LOCATION:Los Angeles\, CA\, United States
ORGANIZER;CN="Belinda Sunnu":MAILTO:bsunnu@polisci.ucla.edu
END:VEVENT
END:VCALENDAR