BEGIN:VCALENDAR
VERSION:2.0
PRODID:-//UCLA Political Science - ECPv6.15.17.1//NONSGML v1.0//EN
CALSCALE:GREGORIAN
METHOD:PUBLISH
X-WR-CALNAME:UCLA Political Science
X-ORIGINAL-URL:https://polisci.ucla.edu
X-WR-CALDESC:Events for UCLA Political Science
REFRESH-INTERVAL;VALUE=DURATION:PT1H
X-Robots-Tag:noindex
X-PUBLISHED-TTL:PT1H
BEGIN:VTIMEZONE
TZID:America/Los_Angeles
BEGIN:DAYLIGHT
TZOFFSETFROM:-0800
TZOFFSETTO:-0700
TZNAME:PDT
DTSTART:20190310T100000
END:DAYLIGHT
BEGIN:STANDARD
TZOFFSETFROM:-0700
TZOFFSETTO:-0800
TZNAME:PST
DTSTART:20191103T090000
END:STANDARD
BEGIN:DAYLIGHT
TZOFFSETFROM:-0800
TZOFFSETTO:-0700
TZNAME:PDT
DTSTART:20200308T100000
END:DAYLIGHT
BEGIN:STANDARD
TZOFFSETFROM:-0700
TZOFFSETTO:-0800
TZNAME:PST
DTSTART:20201101T090000
END:STANDARD
BEGIN:DAYLIGHT
TZOFFSETFROM:-0800
TZOFFSETTO:-0700
TZNAME:PDT
DTSTART:20210314T100000
END:DAYLIGHT
BEGIN:STANDARD
TZOFFSETFROM:-0700
TZOFFSETTO:-0800
TZNAME:PST
DTSTART:20211107T090000
END:STANDARD
END:VTIMEZONE
BEGIN:VEVENT
DTSTART;TZID=America/Los_Angeles:20201106T160000
DTEND;TZID=America/Los_Angeles:20201106T180000
DTSTAMP:20260420T124005
CREATED:20201103T200400Z
LAST-MODIFIED:20201103T200400Z
UID:7308-1604678400-1604685600@polisci.ucla.edu
SUMMARY:Political Theory Workshop: The Value of Official Equality: Structuring the Execution of Democratic Law by Blake Emerson
DESCRIPTION:Speaker:  Blake Emerson\, UCLA School of Law\nTitle:  The Value of Official Equality: Structuring the Execution of Democratic Law\nTopic:  PT Workshop\nTime:  Friday\, November 6th; 4:00pm PST \nZOOM LINK:\nhttps://ucla.zoom.us/j/8217815316?pwd=dlU4enhrUTVBOVFSUFhRamJsd2dwdz09 \nMeeting ID:  821 781 5316\nPasscode:  4289 \nOne tap mobile\n+12133388477\,\,8217815316#\,\,\,\,\,\,0#\,\,4289# US (Los Angeles)\n+16692192599\,\,8217815316#\,\,\,\,\,\,0#\,\,4289# US (San Jose)\n——————– \nThe password-protected paper is both attached and available on the PT website at\nhttps://polisci.ucla.edu/events/workshops/political-theory-workshop \nThe password is (case-sensitive) UCLAtheory
URL:https://polisci.ucla.edu/event/political-theory-workshop-the-value-of-official-equality-structuring-the-execution-of-democratic-law-by-blake-emerson/
LOCATION:Los Angeles\, CA\, United States
ORGANIZER;CN="Belinda Sunnu":MAILTO:bsunnu@polisci.ucla.edu
END:VEVENT
BEGIN:VEVENT
DTSTART;TZID=America/Los_Angeles:20201117T173000
DTEND;TZID=America/Los_Angeles:20201117T193000
DTSTAMP:20260420T124005
CREATED:20201026T221038Z
LAST-MODIFIED:20201026T230656Z
UID:7274-1605634200-1605641400@polisci.ucla.edu
SUMMARY:"U Heard It Here" Understanding the 2020 Election Outcome by Lynn Vavreck\, Efrén Pérez\, & Daniel Thompson
DESCRIPTION:U HEARD IT HERE\n\na panel discussion featuring\n\n\nLynn Vavreck\nMarvin Hoffenberg Professor of American Politics  \n  \nEfrén Pérez \nProfessor\, UCLA Department of Political Science and Psychology\nDirector of Race\, Ethnicity\, Politics and Society (REPS) Lab \n  \nDaniel Thompson\nAssistant Professor\, UCLA Department of Political Science \n  \nmoderated by \n  \nErin Hartman\nAssistant Professor\, UCLA Department of Political Science and Statistics \n  \n\n\n\nTuesday\, November 17\, 2020\n5:30 p.m. PST\n\nLive streaming via Zoom\nClick to RSVP
URL:https://polisci.ucla.edu/event/u-heard-it-here-understanding-the-2020-election-outcome-by-lynn-vavreck-efren-perez-daniel-thompson/
LOCATION:Los Angeles\, CA\, United States
END:VEVENT
BEGIN:VEVENT
DTSTART;TZID=America/Los_Angeles:20201120T160000
DTEND;TZID=America/Los_Angeles:20201120T180000
DTSTAMP:20260420T124005
CREATED:20201116T181110Z
LAST-MODIFIED:20201116T185118Z
UID:7329-1605888000-1605895200@polisci.ucla.edu
SUMMARY:Political Theory Workshop: Machiavellian Leadership\, Class Conflict and Imperial Expansion by John McCormick
DESCRIPTION:Speaker:  John McCormick\, University of Chicago \nTitle:  Machiavellian Leadership\, Class Conflict and Imperial Expansion \nTopic:  PT Workshop \nTime:  Friday\, November 20th; 4:00pm PST \n  \nZOOM LINK: \nhttps://ucla.zoom.us/j/8217815316?pwd=dlU4enhrUTVBOVFSUFhRamJsd2dwdz09 \n  \nMeeting ID:  821 781 5316 \nPasscode:  4289 \n  \nOne tap mobile \n+12133388477\,\,8217815316#\,\,\,\,\,\,0#\,\,4289# US (Los Angeles) \n+16692192599\,\,8217815316#\,\,\,\,\,\,0#\,\,4289# US (San Jose) \n——————– \n  \n  \nThe password-protected paper is both attached and available on the PT website at \nhttps://polisci.ucla.edu/events/workshops/political-theory-workshop \n  \nThe password is (case-sensitive) UCLAtheory \n \nAbstract: \nTwo seemingly minor figures from the Discourses\, Marcus Menenius and Pacuvius Calanus\, play fundamental roles in Machiavelli’s lessons on political leadership.  Through these examples\, Machiavelli instructs leaders on the proper role that capital trials should play within republics beset by class conflict\, aristocratic conspiracies\, and imperially exacerbated civic corruption.  Machiavelli demonstrates that leaders must find suitable opportunities to prosecute oppressive elites before the common people in capital trials; and\, moreover\, that such leaders must demonstrate their own deference to the people by encouraging\, at appropriate moments\, the people to pass legal judgment on themselves as well.  Menenius and Pacuvius appear in episodes involving Capua\, a subject city of Rome\, thus enabling Machiavelli to explore the interaction of leaderly prudence\, domestic class conflict and imperial rule.  Ultimately\, Machiavelli’s Menenius and Pacuvius demonstrate how publicly spirited civic leaders can properly mobilize the people to expose\, combat or resolve instances of foreign conspiracy\, domestic tumult\, and aristocratic corruption for the benefit of their polities.
URL:https://polisci.ucla.edu/event/political-theory-workshop-machiavellian-leadership-class-conflict-and-imperial-expansion-by-john-mccormick/
LOCATION:Los Angeles\, CA\, United States
ORGANIZER;CN="Belinda Sunnu":MAILTO:bsunnu@polisci.ucla.edu
END:VEVENT
END:VCALENDAR