BEGIN:VCALENDAR
VERSION:2.0
PRODID:-//UCLA Political Science - ECPv6.15.17.1//NONSGML v1.0//EN
CALSCALE:GREGORIAN
METHOD:PUBLISH
X-WR-CALNAME:UCLA Political Science
X-ORIGINAL-URL:https://polisci.ucla.edu
X-WR-CALDESC:Events for UCLA Political Science
REFRESH-INTERVAL;VALUE=DURATION:PT1H
X-Robots-Tag:noindex
X-PUBLISHED-TTL:PT1H
BEGIN:VTIMEZONE
TZID:America/Los_Angeles
BEGIN:DAYLIGHT
TZOFFSETFROM:-0800
TZOFFSETTO:-0700
TZNAME:PDT
DTSTART:20180311T100000
END:DAYLIGHT
BEGIN:STANDARD
TZOFFSETFROM:-0700
TZOFFSETTO:-0800
TZNAME:PST
DTSTART:20181104T090000
END:STANDARD
BEGIN:DAYLIGHT
TZOFFSETFROM:-0800
TZOFFSETTO:-0700
TZNAME:PDT
DTSTART:20190310T100000
END:DAYLIGHT
BEGIN:STANDARD
TZOFFSETFROM:-0700
TZOFFSETTO:-0800
TZNAME:PST
DTSTART:20191103T090000
END:STANDARD
BEGIN:DAYLIGHT
TZOFFSETFROM:-0800
TZOFFSETTO:-0700
TZNAME:PDT
DTSTART:20200308T100000
END:DAYLIGHT
BEGIN:STANDARD
TZOFFSETFROM:-0700
TZOFFSETTO:-0800
TZNAME:PST
DTSTART:20201101T090000
END:STANDARD
END:VTIMEZONE
BEGIN:VEVENT
DTSTART;TZID=America/Los_Angeles:20191107T120000
DTEND;TZID=America/Los_Angeles:20191107T133000
DTSTAMP:20260422T121950
CREATED:20191107T164332Z
LAST-MODIFIED:20191107T164512Z
UID:6250-1573128000-1573133400@polisci.ucla.edu
SUMMARY:Jennifer Cryer (Stanford University)\, Recruitment Job Talk
DESCRIPTION:
URL:https://polisci.ucla.edu/event/jennifer-cryer-stanford-university-recruitment-job-talk/
LOCATION:4357 Bunche Hall\, 4357 Bunche Hall\, Los Angeles\, CA\, 90095\, United States
ORGANIZER;CN="Belinda Sunnu":MAILTO:bsunnu@polisci.ucla.edu
END:VEVENT
BEGIN:VEVENT
DTSTART;TZID=America/Los_Angeles:20191113T120000
DTEND;TZID=America/Los_Angeles:20191113T133000
DTSTAMP:20260422T121950
CREATED:20191107T164635Z
LAST-MODIFIED:20191107T164635Z
UID:6260-1573646400-1573651800@polisci.ucla.edu
SUMMARY:Davin Phoenix (UC Irvine)\, Recruitment Job Talk
DESCRIPTION:
URL:https://polisci.ucla.edu/event/davin-phoenix-uc-irvine-recruitment-job-talk/
LOCATION:4357 Bunche Hall\, 4357 Bunche Hall\, Los Angeles\, CA\, 90095\, United States
ORGANIZER;CN="Belinda Sunnu":MAILTO:bsunnu@polisci.ucla.edu
END:VEVENT
BEGIN:VEVENT
DTSTART;TZID=America/Los_Angeles:20191114T180000
DTEND;TZID=America/Los_Angeles:20191114T200000
DTSTAMP:20260422T121950
CREATED:20191107T174345Z
LAST-MODIFIED:20191114T185657Z
UID:6287-1573754400-1573761600@polisci.ucla.edu
SUMMARY:Bollens-Ries-Hoffenberg Lecture presented by Larissa MacFarquhar
DESCRIPTION:Michael Chwe\nProfessor and Chair\nUCLA Department of Political Scienceinvites you to attend the 32nd annual \nBOLLENS-RIES-HOFFENBERG LECTURE \n“HOMETOWN:\nThose Who Leave\, Those Who Stay\, and Those Who Go Back” \npresented by\nLarissa MacFarquhar\nStaff writer\, The New Yorker \nThursday\, November 14\, 2019\n6:00 p.m.\nReception to follow \nCalifornia NanoSystems Institute (CNSI)\nUCLA\n\n\n\n 
URL:https://polisci.ucla.edu/event/bollens-ries-hoffenberg-lecture-presented-by-larissa-macfarquhar/
LOCATION:California NanoSystems Institute\, 570 Westwood Plaza\, Los Angeles\, CA\, 90095\, United States
ORGANIZER;CN="Belinda Sunnu":MAILTO:bsunnu@polisci.ucla.edu
END:VEVENT
BEGIN:VEVENT
DTSTART;TZID=America/Los_Angeles:20191115T120000
DTEND;TZID=America/Los_Angeles:20191115T133000
DTSTAMP:20260422T121950
CREATED:20191107T164738Z
LAST-MODIFIED:20191107T164738Z
UID:6264-1573819200-1573824600@polisci.ucla.edu
SUMMARY:Nazita Lajevardi (Michigan State University)\, Recruitment Job Talk
DESCRIPTION:
URL:https://polisci.ucla.edu/event/nazita-lajevardi-michigan-state-university-recruitment-job-talk/
LOCATION:4357 Bunche Hall\, 4357 Bunche Hall\, Los Angeles\, CA\, 90095\, United States
ORGANIZER;CN="Belinda Sunnu":MAILTO:bsunnu@polisci.ucla.edu
END:VEVENT
BEGIN:VEVENT
DTSTART;TZID=America/Los_Angeles:20191115T160000
DTEND;TZID=America/Los_Angeles:20191115T180000
DTSTAMP:20260422T121950
CREATED:20191114T184229Z
LAST-MODIFIED:20191115T215417Z
UID:6297-1573833600-1573840800@polisci.ucla.edu
SUMMARY:Larry N. George (CSU Long Beach)\, Political Theory Workshop
DESCRIPTION:Paper (password protected)
URL:https://polisci.ucla.edu/event/larry-n-george-csu-long-beach-political-theory-workshop/
LOCATION:4357 Bunche Hall\, 4357 Bunche Hall\, Los Angeles\, CA\, 90095\, United States
ORGANIZER;CN="Belinda Sunnu":MAILTO:bsunnu@polisci.ucla.edu
END:VEVENT
BEGIN:VEVENT
DTSTART;TZID=America/Los_Angeles:20191120T120000
DTEND;TZID=America/Los_Angeles:20191120T133000
DTSTAMP:20260422T121950
CREATED:20191107T164903Z
LAST-MODIFIED:20191107T164903Z
UID:6268-1574251200-1574256600@polisci.ucla.edu
SUMMARY:Ashley Jardina (Duke University)\, Recruitment Job Talk
DESCRIPTION:
URL:https://polisci.ucla.edu/event/ashley-jardina-duke-university-recruitment-job-talk/
LOCATION:4357 Bunche Hall\, 4357 Bunche Hall\, Los Angeles\, CA\, 90095\, United States
ORGANIZER;CN="Belinda Sunnu":MAILTO:bsunnu@polisci.ucla.edu
END:VEVENT
BEGIN:VEVENT
DTSTART;TZID=America/Los_Angeles:20191121T120000
DTEND;TZID=America/Los_Angeles:20191121T133000
DTSTAMP:20260422T121950
CREATED:20191107T164944Z
LAST-MODIFIED:20191107T164944Z
UID:6271-1574337600-1574343000@polisci.ucla.edu
SUMMARY:Alexander Sahn (UC Berkeley)\, Recruitment Job Talk
DESCRIPTION:
URL:https://polisci.ucla.edu/event/alexander-sahn-uc-berkeley-recruitment-job-talk/
LOCATION:4357 Bunche Hall\, 4357 Bunche Hall\, Los Angeles\, CA\, 90095\, United States
ORGANIZER;CN="Belinda Sunnu":MAILTO:bsunnu@polisci.ucla.edu
END:VEVENT
BEGIN:VEVENT
DTSTART;TZID=America/Los_Angeles:20191122T120000
DTEND;TZID=America/Los_Angeles:20191122T133000
DTSTAMP:20260422T121950
CREATED:20191107T165027Z
LAST-MODIFIED:20191107T165027Z
UID:6274-1574424000-1574429400@polisci.ucla.edu
SUMMARY:Hye Young You (New York University)\, Recruitment Job Talk
DESCRIPTION:
URL:https://polisci.ucla.edu/event/hye-young-you-new-york-university-recruitment-job-talk/
LOCATION:4357 Bunche Hall\, 4357 Bunche Hall\, Los Angeles\, CA\, 90095\, United States
ORGANIZER;CN="Belinda Sunnu":MAILTO:bsunnu@polisci.ucla.edu
END:VEVENT
BEGIN:VEVENT
DTSTART;TZID=America/Los_Angeles:20191125T120000
DTEND;TZID=America/Los_Angeles:20191125T133000
DTSTAMP:20260422T121950
CREATED:20191107T165120Z
LAST-MODIFIED:20191107T165120Z
UID:6277-1574683200-1574688600@polisci.ucla.edu
SUMMARY:Jason Todd (Duke University)\, Recruitment Job Talk
DESCRIPTION:
URL:https://polisci.ucla.edu/event/jason-todd-duke-university-recruitment-job-talk/
LOCATION:4357 Bunche Hall\, 4357 Bunche Hall\, Los Angeles\, CA\, 90095\, United States
ORGANIZER;CN="Belinda Sunnu":MAILTO:bsunnu@polisci.ucla.edu
END:VEVENT
END:VCALENDAR