BEGIN:VCALENDAR
VERSION:2.0
PRODID:-//UCLA Political Science - ECPv6.15.17.1//NONSGML v1.0//EN
CALSCALE:GREGORIAN
METHOD:PUBLISH
X-WR-CALNAME:UCLA Political Science
X-ORIGINAL-URL:https://polisci.ucla.edu
X-WR-CALDESC:Events for UCLA Political Science
REFRESH-INTERVAL;VALUE=DURATION:PT1H
X-Robots-Tag:noindex
X-PUBLISHED-TTL:PT1H
BEGIN:VTIMEZONE
TZID:America/Los_Angeles
BEGIN:DAYLIGHT
TZOFFSETFROM:-0800
TZOFFSETTO:-0700
TZNAME:PDT
DTSTART:20190310T100000
END:DAYLIGHT
BEGIN:STANDARD
TZOFFSETFROM:-0700
TZOFFSETTO:-0800
TZNAME:PST
DTSTART:20191103T090000
END:STANDARD
BEGIN:DAYLIGHT
TZOFFSETFROM:-0800
TZOFFSETTO:-0700
TZNAME:PDT
DTSTART:20200308T100000
END:DAYLIGHT
BEGIN:STANDARD
TZOFFSETFROM:-0700
TZOFFSETTO:-0800
TZNAME:PST
DTSTART:20201101T090000
END:STANDARD
BEGIN:DAYLIGHT
TZOFFSETFROM:-0800
TZOFFSETTO:-0700
TZNAME:PDT
DTSTART:20210314T100000
END:DAYLIGHT
BEGIN:STANDARD
TZOFFSETFROM:-0700
TZOFFSETTO:-0800
TZNAME:PST
DTSTART:20211107T090000
END:STANDARD
END:VTIMEZONE
BEGIN:VEVENT
DTSTART;TZID=America/Los_Angeles:20201204T160000
DTEND;TZID=America/Los_Angeles:20201204T180000
DTSTAMP:20260420T105432
CREATED:20201130T185844Z
LAST-MODIFIED:20201130T185954Z
UID:7352-1607097600-1607104800@polisci.ucla.edu
SUMMARY:Political Theory Workshop: The Real Possibility of Physical Killing: A Feminist Reading of Carl Schmitt by Robyn Marasco
DESCRIPTION:Speaker:  Robyn Marasco\, Hunter College and The Graduate Center\, CUNY \nTitle:  The Real Possibility of Physical Killing: A Feminist Reading of Carl Schmitt \nTopic:  PT Workshop \nTime:  Friday\, December 4th; 4:00pm PST \n  \nZOOM LINK: \nhttps://ucla.zoom.us/j/8217815316?pwd=dlU4enhrUTVBOVFSUFhRamJsd2dwdz09 \n  \nMeeting ID:  821 781 5316 \nPasscode:  4289 \n  \nOne tap mobile \n+12133388477\,\,8217815316#\,\,\,\,\,\,0#\,\,4289# US (Los Angeles) \n+16692192599\,\,8217815316#\,\,\,\,\,\,0#\,\,4289# US (San Jose) \n——————– \n  \n  \nThe password-protected paper is both attached and available on the PT website at \nhttps://polisci.ucla.edu/events/workshops/political-theory-workshop \n  \nThe password is (case-sensitive) UCLAtheory
URL:https://polisci.ucla.edu/event/political-theory-workshop-the-real-possibility-of-physical-killing-a-feminist-reading-of-carl-schmitt-by-robyn-marasco/
LOCATION:Los Angeles\, CA\, United States
ORGANIZER;CN="Belinda Sunnu":MAILTO:bsunnu@polisci.ucla.edu
END:VEVENT
END:VCALENDAR