BEGIN:VCALENDAR
VERSION:2.0
PRODID:-//UCLA Political Science - ECPv6.15.17.1//NONSGML v1.0//EN
CALSCALE:GREGORIAN
METHOD:PUBLISH
X-WR-CALNAME:UCLA Political Science
X-ORIGINAL-URL:https://polisci.ucla.edu
X-WR-CALDESC:Events for UCLA Political Science
REFRESH-INTERVAL;VALUE=DURATION:PT1H
X-Robots-Tag:noindex
X-PUBLISHED-TTL:PT1H
BEGIN:VTIMEZONE
TZID:America/Los_Angeles
BEGIN:DAYLIGHT
TZOFFSETFROM:-0800
TZOFFSETTO:-0700
TZNAME:PDT
DTSTART:20190310T100000
END:DAYLIGHT
BEGIN:STANDARD
TZOFFSETFROM:-0700
TZOFFSETTO:-0800
TZNAME:PST
DTSTART:20191103T090000
END:STANDARD
BEGIN:DAYLIGHT
TZOFFSETFROM:-0800
TZOFFSETTO:-0700
TZNAME:PDT
DTSTART:20200308T100000
END:DAYLIGHT
BEGIN:STANDARD
TZOFFSETFROM:-0700
TZOFFSETTO:-0800
TZNAME:PST
DTSTART:20201101T090000
END:STANDARD
BEGIN:DAYLIGHT
TZOFFSETFROM:-0800
TZOFFSETTO:-0700
TZNAME:PDT
DTSTART:20210314T100000
END:DAYLIGHT
BEGIN:STANDARD
TZOFFSETFROM:-0700
TZOFFSETTO:-0800
TZNAME:PST
DTSTART:20211107T090000
END:STANDARD
END:VTIMEZONE
BEGIN:VEVENT
DTSTART;TZID=America/Los_Angeles:20201006T170000
DTEND;TZID=America/Los_Angeles:20201006T190000
DTSTAMP:20260420T175401
CREATED:20201001T172020Z
LAST-MODIFIED:20201001T172231Z
UID:7203-1602003600-1602010800@polisci.ucla.edu
SUMMARY:"U Heard It Here" The 2020 Campaign for the Hardest Job in the World by Lynn Vavreck & John Dickerson
DESCRIPTION:“U HEARD IT HERE” LECTURES\nFall 2020\nTuesday\, October 6\, 2020 at 5:00 p.m. PDT\n\nThe 2020 Campaign for the Hardest Job in the World\n\n\n\n\nJohn Dickerson\nCorrespondent\, 60 Minutes\, CBS News\nAuthor\, The Hardest Job in the World\nLynn Vavreck\nMavin Hoffenberg Professor of\nAmerican Politics
URL:https://polisci.ucla.edu/event/u-heard-it-here-the-2020-campaign-for-the-hardest-job-in-the-world/
LOCATION:Los Angeles\, CA\, United States
END:VEVENT
END:VCALENDAR